BEGIN:VCALENDAR
VERSION:2.0
PRODID:-//ChamberMaster//Event Calendar 2.0//EN
METHOD:PUBLISH
X-PUBLISHED-TTL:P3D
REFRESH-INTERVAL:P3D
CALSCALE:GREGORIAN
BEGIN:VEVENT
DTSTART:20100729T160000Z
DTEND:20100729T190000Z
X-MICROSOFT-CDO-ALLDAYEVENT:FALSE
SUMMARY:How To Do Business With Caltrans
DESCRIPTION:The State of California contracts over $9 billion every year. The State buys food\, construction\, transportation\, consulting services\, and many other products and services. The list is almost endless\, and so is the opportunity. Learn first-hand from the State how you can maximize your access to these dollars\, in addition to:\n\n	How the California state contracting process works\; \n	\n	The benefits of  \n	\n	How to locate and access pertinent information about these contracting opportunities\; and\n	\n	An overview of Upcoming contract opportunities specific to the Bay Bridge Project\; District 04 as well as 	a review of the Toll Bridge Small Business Program services and resources. \n\nParticipants will also benefit from a step-by-step overview of the new Caltrans Connect Opt-In Marketing Feature which is designed to allow firms to advertise their products and services at no cost.  Don't miss an opportunity to maximize your firm's visibility to prospective bidders and learn how accessible and easy it is! \n\nRegistration Link: http://www.baybridgeinfo.org/small-business-training\n\nMap & Directions: http://www.baybridgeinfo.org/node/432
X-ALT-DESC;FMTTYPE=text/html:The State of California contracts over $9 billion every year. The State buys food\, construction\, transportation\, consulting services\, and many other products and services. The list is almost endless\, and so is the opportunity. Learn first-hand from the State how you can maximize your access to these dollars\, in addition to:\n\n	How the California state contracting process works\; \n	\n	The benefits of & criteria for certifying your business\;\n	\n	How to locate and access pertinent information about these contracting opportunities\; and\n	\n	An overview of Upcoming contract opportunities specific to the Bay Bridge Project\; District 04 as well as 	a review of the Toll Bridge Small Business Program services and resources. \n\nParticipants will also benefit from a step-by-step overview of the new Caltrans Connect Opt-In Marketing Feature which is designed to allow firms to advertise their products and services at no cost.  Don't miss an opportunity to maximize your firm's visibility to prospective bidders and learn how accessible and easy it is! \n\nRegistration Link: http://www.baybridgeinfo.org/small-business-training\n\nMap & Directions: http://www.baybridgeinfo.org/node/432
LOCATION:345 Burma Road \, Oakland \, CA 94607 Caltrans - San Francisco-Oakland Bay Bridge (SFOBB)Project Site\, Pier 7
UID:e.2957.1003
SEQUENCE:3
DTSTAMP:20260422T150901Z
URL:https://www.westsacramentochamber.com/events/details/how-to-do-business-with-caltrans-1003
END:VEVENT

END:VCALENDAR
