BEGIN:VCALENDAR
VERSION:2.0
PRODID:-//ChamberMaster//Event Calendar 2.0//EN
METHOD:PUBLISH
X-PUBLISHED-TTL:P3D
REFRESH-INTERVAL:P3D
CALSCALE:GREGORIAN
BEGIN:VEVENT
DTSTART:20141018T223000Z
DTEND:20141019T020000Z
X-MICROSOFT-CDO-ALLDAYEVENT:FALSE
SUMMARY:How the West was Sung (musical)
DESCRIPTION:A benefit supporting the West Sacramento Historical Society-History Gallery and history related programs.\nCome join us while we present SAMANTICS Choir in HOW THE WEST WAS SUNG musical renditions of the Western Cowboy heroes of Hollywood movies and campfire tunes.\nPrice includes Show\, door prize chances\, 1-drink  ticket\, hors d' oeuvers\, and refreshments. Raffle and additional drink (beer and wine) tickets sold separately.\nDoors open at 3:30 pm\, show starts at 4:00 pm. To purchase tickets call 916 374-1849\, or e-mail at\nWSHistoricalS@gmail.com or tickets@samanticschoir.org.  Both are non-profit organizations.
X-ALT-DESC;FMTTYPE=text/html:A benefit supporting the West Sacramento Historical Society-History Gallery and history related programs.\nCome join us while we present SAMANTICS Choir in HOW THE WEST WAS SUNG musical renditions of the Western Cowboy heroes of Hollywood movies and campfire tunes.\nPrice includes Show\, door prize chances\, 1-drink  ticket\, hors d' oeuvers\, and refreshments. Raffle and additional drink (beer and wine) tickets sold separately.\nDoors open at 3:30 pm\, show starts at 4:00 pm. To purchase tickets call 916 374-1849\, or e-mail at\nWSHistoricalS@gmail.com or tickets@samanticschoir.org.  Both are non-profit organizations.
LOCATION:1075 WEST CAPITOL AVENUE\, WEST SACRAMENTO\, CA 95691 CITY OF WEST SACRAMENTO-COMMUNITY CENTER BLACK BOX THEATER 1075 WEST CAPITOL AVENUE WEST SACRAMENTO\, CA 95691
UID:e.2957.1339
SEQUENCE:3
DTSTAMP:20260422T164942Z
URL:https://www.westsacramentochamber.com/events/details/how-the-west-was-sung-musical-1339
END:VEVENT

END:VCALENDAR
