BEGIN:VCALENDAR
VERSION:2.0
PRODID:-//ChamberMaster//Event Calendar 2.0//EN
METHOD:PUBLISH
X-PUBLISHED-TTL:P3D
REFRESH-INTERVAL:P3D
CALSCALE:GREGORIAN
BEGIN:VEVENT
DTSTART:20100611T160000Z
DTEND:20100611T160000Z
X-MICROSOFT-CDO-ALLDAYEVENT:FALSE
SUMMARY:Horse Expo
DESCRIPTION:Come and enjoy the largest and most comprehensive equestrian exposition in North America!!! --Magnificent 7 All-Around Stock Horse Championship --Equestrian Extravaganza--Art Show--Young Rider Park--Trial Symposium--Driving Derby--Horse Sale--Breed Showcase--And More...\n\nTickets: \n1 Day Ticket- $18\; 3 Day Pass- $45\; Kids ages 7-13- $5\; Kids ages 6 and under- FREE\n\nTimes:\nFri   Sun 10am-5pm\n\nInfo Phone: (800)352-2411
X-ALT-DESC;FMTTYPE=text/html:Come and enjoy the largest and most comprehensive equestrian exposition in North America!!! --Magnificent 7 All-Around Stock Horse Championship --Equestrian Extravaganza--Art Show--Young Rider Park--Trial Symposium--Driving Derby--Horse Sale--Breed Showcase--And More...\n\nTickets: \n1 Day Ticket- $18\; 3 Day Pass- $45\; Kids ages 7-13- $5\; Kids ages 6 and under- FREE\n\nTimes:\nFri & Sat 9am-7pm\; Sun 10am-5pm\n\nInfo Phone: (800)352-2411
LOCATION:Cal Expo\, Sacramento\, CA 95815 Cal Expo 1600 Exposition Blvd. Sacramento \, CA 95815 Driving Directions From the Bay Area Take Highway 80 (East) to Capitol City Freeway (Business 80) (North). Exit Exposition Blvd. From Stockton Take Highway 5 (North) to Highway 50 (East) or Highway 99 (North). Travel Capitol City Freeway (Business 80) (North). Exit Exposition Blvd. From Tahoe Area Northshore\, take Highway 80 (West) to Capitol City Freeway (Business 80) (South). Exit Exposition Blvd. Southshore\, take Highway 50 (West) to Capitol City Freeway (Business 80) (South). Exit Exposition Blvd. From Placerville Take Highway 50 (West) to Howe Ave. (North). Turn left on Hurley Way . Turn right at Ethan Way \, then left on Exposition Blvd. From Redding Take Highway 80 (South) to Highway 50 (East). Travel Capitol City Freeway (Business 80) (North). Exit Exposition Blvd.
UID:e.2957.987
SEQUENCE:3
DTSTAMP:20260422T115900Z
URL:https://www.westsacramentochamber.com/events/details/horse-expo-987
END:VEVENT

END:VCALENDAR
