BEGIN:VCALENDAR
VERSION:2.0
PRODID:-//ChamberMaster//Event Calendar 2.0//EN
METHOD:PUBLISH
X-PUBLISHED-TTL:P3D
REFRESH-INTERVAL:P3D
CALSCALE:GREGORIAN
BEGIN:VEVENT
DTSTART:20101108T050000Z
DTEND:20101107T190000Z
X-MICROSOFT-CDO-ALLDAYEVENT:FALSE
SUMMARY:Honor Our Veterans
DESCRIPTION:Join us at the VFW Hall in West Sacramento for Breakfast Honoring our Veterans.  All Veterans are our guest and enjoy at no charge.  Hosting the event is the River City  Lady Raider Basketball Team. Our Fall Fashion Show\, Auction\, Rafftles and Prizes will add to fun.  $6.00 for Adults\, $3.00 Children\, Veterans Eat Free
X-ALT-DESC;FMTTYPE=text/html:Join us at the VFW Hall in West Sacramento for Breakfast Honoring our Veterans.  All Veterans are our guest and enjoy at no charge.  Hosting the event is the River City  Lady Raider Basketball Team. Our Fall Fashion Show\, Auction\, Rafftles and Prizes will add to fun.  $6.00 for Adults\, $3.00 Children\, Veterans Eat Free
LOCATION:905 Drever Street\, West Sacrametno\, Ca 95691 VFW Hall 905 Drever Street West Sacramento\, Ca. 95691 Location: Behind the Cheveron Station on Jefferson Blvd. Across the street from River City Funeral Chapel
UID:e.2957.1016
SEQUENCE:3
DTSTAMP:20260422T230859Z
URL:https://www.westsacramentochamber.com/events/details/honor-our-veterans-1016
END:VEVENT

END:VCALENDAR
