BEGIN:VCALENDAR
VERSION:2.0
PRODID:-//ChamberMaster//Event Calendar 2.0//EN
METHOD:PUBLISH
X-PUBLISHED-TTL:P3D
REFRESH-INTERVAL:P3D
CALSCALE:GREGORIAN
BEGIN:VEVENT
DTSTART:20090215T020000Z
DTEND:20090214T080000Z
X-MICROSOFT-CDO-ALLDAYEVENT:FALSE
SUMMARY:Holy Cross School Crab Feed
DESCRIPTION:All you can eat Crab! No Host Bar. Great food\, fun and entertainment. Bring your own butter and warmer\, nut cracker\, and pick to make sure you get every delicious piece out of the shell!!!  Please come and help support a wonderful school.\n\nTickets are $40.00 per ticket. The price goes up after February 6\, 2009 to $50.00.
X-ALT-DESC;FMTTYPE=text/html:All you can eat Crab! No Host Bar. Great food\, fun and entertainment. Bring your own butter and warmer\, nut cracker\, and pick to make sure you get every delicious piece out of the shell!!!  Please come and help support a wonderful school.\n\nTickets are $40.00 per ticket. The price goes up after February 6\, 2009 to $50.00.
LOCATION:800 Todhunter Ave.\, West Sacramento\, CA 95605 800 Todhunter Ave. West Sacramento\, CA 95605
UID:e.2957.785
SEQUENCE:3
DTSTAMP:20260425T193857Z
URL:https://www.westsacramentochamber.com/events/details/holy-cross-school-crab-feed-785
END:VEVENT

END:VCALENDAR
