BEGIN:VCALENDAR
VERSION:2.0
PRODID:-//ChamberMaster//Event Calendar 2.0//EN
METHOD:PUBLISH
X-PUBLISHED-TTL:P3D
REFRESH-INTERVAL:P3D
CALSCALE:GREGORIAN
BEGIN:VEVENT
DTSTART:20090215T020000Z
DTEND:20090214T080000Z
X-MICROSOFT-CDO-ALLDAYEVENT:FALSE
SUMMARY:Holy Cross Crab Feed
DESCRIPTION:All you can eat Crab!!!!!!!!!! \n6:00p.m.- No Host Bar\n7:00p.m.- Dinner\n8:00p.m.- Raffle\n9:00p.m.- till Midnight-Dancing\n\nCost: $40.00 per Ticket\n    after February 6\, 2009 ticket price is $50.00
X-ALT-DESC;FMTTYPE=text/html:All you can eat Crab!!!!!!!!!! \n6:00p.m.- No Host Bar\n7:00p.m.- Dinner\n8:00p.m.- Raffle\n9:00p.m.- till Midnight-Dancing\n\nCost: $40.00 per Ticket\n    after February 6\, 2009 ticket price is $50.00
LOCATION:Same as Above\, West Sacramento\, CA 95605 800 Todhunter Ave. West Sacramento\, CA 95605
UID:e.2957.781
SEQUENCE:3
DTSTAMP:20260425T204307Z
URL:https://www.westsacramentochamber.com/events/details/holy-cross-crab-feed-781
END:VEVENT

END:VCALENDAR
