BEGIN:VCALENDAR
VERSION:2.0
PRODID:-//ChamberMaster//Event Calendar 2.0//EN
METHOD:PUBLISH
X-PUBLISHED-TTL:P3D
REFRESH-INTERVAL:P3D
CALSCALE:GREGORIAN
BEGIN:VEVENT
DTSTART:20100604T180000Z
DTEND:20100604T180000Z
X-MICROSOFT-CDO-ALLDAYEVENT:FALSE
SUMMARY:Health Education Council Benefit Golf Tournament
DESCRIPTION:Please join the Health Education Council in raising funds to expand our Health Education Programs!  Our 4th Annual Benefit Golf Tournament will be held on Friday\, June 4\, 2010 in Davis this year. Wildhorse Golf Club was named ''Best Golf Course in Yolo County 2005." The $125 ticket price (per golfer) includes green fee\, range balls\, cart\, lunch\, awards dinner and loads of fun!\n\nRegister by April 15 to receive a contest card FREE ($20 value)! Cards include free play in longest drive\, closest to the pin\, and putting contests. Prizes include $50 - $100 gift cards to area favorites including McCormick's & Schmick's Seafood Restaurant and Ruth's Chris Steakhouse. Best man and best woman in each contest receives a prize and tournament prizes are awarded to the top three golf foursomes as well as the lowest scoring team.\n \nSign up as a foursome with three fellow golfers OR register any number of people and we will match you up with awesome people to make your foursomes.\n \nSo come out and enjoy some sunny California weather\, cold drinks\, and an award winning golf course... all for a great cause!
X-ALT-DESC;FMTTYPE=text/html:Please join the Health Education Council in raising funds to expand our Health Education Programs!  Our 4th Annual Benefit Golf Tournament will be held on Friday\, June 4\, 2010 in Davis this year. Wildhorse Golf Club was named ''Best Golf Course in Yolo County 2005." The $125 ticket price (per golfer) includes green fee\, range balls\, cart\, lunch\, awards dinner and loads of fun!\n\nRegister by April 15 to receive a contest card FREE ($20 value)! Cards include free play in longest drive\, closest to the pin\, and putting contests. Prizes include $50 - $100 gift cards to area favorites including McCormick's & Schmick's Seafood Restaurant and Ruth's Chris Steakhouse. Best man and best woman in each contest receives a prize and tournament prizes are awarded to the top three golf foursomes as well as the lowest scoring team.\n \nSign up as a foursome with three fellow golfers OR register any number of people and we will match you up with awesome people to make your foursomes.\n \nSo come out and enjoy some sunny California weather\, cold drinks\, and an award winning golf course... all for a great cause!
LOCATION:2323 Rockwell Drive\, Davis\, CA 95616\, CA 95616 WILDHORSE GOLF CLUB 2323 Rockwell Drive Davis\, CA 95616 (530) 753-4900 www.wildhorsegolfclub.com
UID:e.2957.975
SEQUENCE:3
DTSTAMP:20260422T120120Z
URL:https://www.westsacramentochamber.com/events/details/health-education-council-benefit-golf-tournament-975
END:VEVENT

END:VCALENDAR
