BEGIN:VCALENDAR
VERSION:2.0
PRODID:-//ChamberMaster//Event Calendar 2.0//EN
METHOD:PUBLISH
X-PUBLISHED-TTL:P3D
REFRESH-INTERVAL:P3D
CALSCALE:GREGORIAN
BEGIN:VEVENT
DTSTART:20140228T153000Z
DTEND:20140301T053000Z
X-MICROSOFT-CDO-ALLDAYEVENT:FALSE
SUMMARY:Health Care Leadership Summit
DESCRIPTION:Don't miss the annual health care summit which will once again bring together the top executives for an informative and candid discussion about issues facing the industry.
X-ALT-DESC;FMTTYPE=text/html:Don't miss the annual health care summit which will once again bring together the top executives for an informative and candid discussion about issues facing the industry.
LOCATION:Sheraton Grand Sacramento\, Sacramento\, CA 95814 Sheraton Grand Sacramento 1230 J St Sacramento\, CA 95814
UID:e.2957.1287
SEQUENCE:3
DTSTAMP:20260423T103849Z
URL:https://www.westsacramentochamber.com/events/details/health-care-leadership-summit-1287
END:VEVENT

END:VCALENDAR
