BEGIN:VCALENDAR
VERSION:2.0
PRODID:-//ChamberMaster//Event Calendar 2.0//EN
METHOD:PUBLISH
X-PUBLISHED-TTL:P3D
REFRESH-INTERVAL:P3D
CALSCALE:GREGORIAN
BEGIN:VEVENT
DTSTART:20111029T210000Z
DTEND:20111030T000000Z
X-MICROSOFT-CDO-ALLDAYEVENT:FALSE
SUMMARY:Harvest Festival FUN-Raiser
DESCRIPTION:Raffle Tickets: $5 for 10 tickets/$10 for 30 tickets/$20 for 100 tickets - Win a Harvest Pie! All proceeds go to Caring Connection's Natural Playscape fund.\n\nSome free events: Face painting\, Scarecrow Costume Contest 4pm\, Wholesale fun\, games\, snacks
X-ALT-DESC;FMTTYPE=text/html:Raffle Tickets: $5 for 10 tickets/$10 for 30 tickets/$20 for 100 tickets - Win a Harvest Pie! All proceeds go to Caring Connection's Natural Playscape fund.\n\nSome free events: Face painting\, Scarecrow Costume Contest 4pm\, Wholesale fun\, games\, snacks
LOCATION:703 West Acre Road\, West Sacramento\, Ca 95691 Caring Connection Children's Center
UID:e.2957.1103
SEQUENCE:3
DTSTAMP:20260424T112434Z
URL:https://www.westsacramentochamber.com/events/details/harvest-festival-fun-raiser-1103
END:VEVENT

END:VCALENDAR
