BEGIN:VCALENDAR
VERSION:2.0
PRODID:-//ChamberMaster//Event Calendar 2.0//EN
METHOD:PUBLISH
X-PUBLISHED-TTL:P3D
REFRESH-INTERVAL:P3D
CALSCALE:GREGORIAN
BEGIN:VEVENT
DTSTART:20091031T170000Z
DTEND:20091031T170000Z
X-MICROSOFT-CDO-ALLDAYEVENT:FALSE
SUMMARY:Harvest Festival & Craft Fair
DESCRIPTION:Craft boutique 10 am to 3pm\, Great Pre-season Christmas shopping opportunity! Kids Carnival 12pm to 3pm\,Fun for all ages! Concessions & snacks! Pony rides...Bounce Houses... Puppet Shows!Trunk or Treat 4m to 6pm\, A safe alternative to trick or treat. We will have the parking lot filled with decorated cars passing out candy.
X-ALT-DESC;FMTTYPE=text/html:Craft boutique 10 am to 3pm\, Great Pre-season Christmas shopping opportunity! Kids Carnival 12pm to 3pm\,Fun for all ages! Concessions & snacks! Pony rides...Bounce Houses... Puppet Shows!Trunk or Treat 4m to 6pm\, A safe alternative to trick or treat. We will have the parking lot filled with decorated cars passing out candy.
LOCATION:Horizon Christian Fellowship\, West Sacramento\, Ca 95691 West Sacramento
UID:e.2957.906
SEQUENCE:3
DTSTAMP:20260423T230013Z
URL:https://www.westsacramentochamber.com/events/details/harvest-festival-craft-fair-906
END:VEVENT

END:VCALENDAR
