BEGIN:VCALENDAR
VERSION:2.0
PRODID:-//ChamberMaster//Event Calendar 2.0//EN
METHOD:PUBLISH
X-PUBLISHED-TTL:P3D
REFRESH-INTERVAL:P3D
CALSCALE:GREGORIAN
BEGIN:VEVENT
DTSTART:20110507T003000Z
DTEND:20110507T040000Z
X-MICROSOFT-CDO-ALLDAYEVENT:FALSE
SUMMARY:Habitat for Humanity\, Yolo County Fundraiser
DESCRIPTION:Join Habitat for Humanity\, Yolo County (HFHYC) on May 6\, 2011 from 5:30-9:00p at the GRAND RE-OPENING of Original Steve's Pizza at 314 F Street in Davis. Toolbox Wine Co. will be there to celebrate with us and serving up their delicious wines. During the event and for the remainder of 2011\, Toolbox Wine Co. has graciously offered to donate 50 cents for every glass of wine sold and $1 for every bottle of wine sold to Habitat for Humanity\, Yolo County...Salute!
X-ALT-DESC;FMTTYPE=text/html:Join Habitat for Humanity\, Yolo County (HFHYC) on May 6\, 2011 from 5:30-9:00p at the GRAND RE-OPENING of Original Steve's Pizza at 314 F Street in Davis. Toolbox Wine Co. will be there to celebrate with us and serving up their delicious wines. During the event and for the remainder of 2011\, Toolbox Wine Co. has graciously offered to donate 50 cents for every glass of wine sold and $1 for every bottle of wine sold to Habitat for Humanity\, Yolo County...Salute!
LOCATION:314 F Street\, Davis\, CA 95616 Original Steve's Pizza 314 F Street Downtown Davis
UID:e.2957.1070
SEQUENCE:3
DTSTAMP:20260423T121217Z
URL:https://www.westsacramentochamber.com/events/details/habitat-for-humanity-yolo-county-fundraiser-1070
END:VEVENT

END:VCALENDAR
