BEGIN:VCALENDAR
VERSION:2.0
PRODID:-//ChamberMaster//Event Calendar 2.0//EN
METHOD:PUBLISH
X-PUBLISHED-TTL:P3D
REFRESH-INTERVAL:P3D
CALSCALE:GREGORIAN
BEGIN:VEVENT
DTSTART:20120530T230000Z
DTEND:20120530T130000Z
X-MICROSOFT-CDO-ALLDAYEVENT:FALSE
SUMMARY:Grand Opening Reception at National University
DESCRIPTION:Complimentary refreshments and hors d'oeuvres will be served
X-ALT-DESC;FMTTYPE=text/html:Complimentary refreshments and hors d'oeuvres will be served
LOCATION:10901 Gold Center Drive\, Rancho Cordova\, CA 95670 Directly off Zinfandel Drive and Highway 50 East
UID:e.2957.1147
SEQUENCE:3
DTSTAMP:20260422T215546Z
URL:https://www.westsacramentochamber.com/events/details/grand-opening-reception-at-national-university-1147
END:VEVENT

END:VCALENDAR
