BEGIN:VCALENDAR
VERSION:2.0
PRODID:-//ChamberMaster//Event Calendar 2.0//EN
METHOD:PUBLISH
X-PUBLISHED-TTL:P3D
REFRESH-INTERVAL:P3D
CALSCALE:GREGORIAN
BEGIN:VEVENT
DTSTART:20091020T233000Z
DTEND:20091021T233000Z
X-MICROSOFT-CDO-ALLDAYEVENT:FALSE
SUMMARY:Govlink Conference 2009
DESCRIPTION:ABOUT GOVLINK CONFERENCE 2009: \n• GOVLINK CONFERENCE 2009 provides networking opportunities between government agencies\, prime contractors\, and small businesses. \n• The speakers from government agencies will discuss business opportunities\, vendor selection criteria\, and provide valuable insights on what it takes to be successful and how to avoid \ncommon mistakes. \n• Federal\, state\, and local government agencies and major prime contractors will be exhibiting at the event to facilitate networking.
X-ALT-DESC;FMTTYPE=text/html:ABOUT GOVLINK CONFERENCE 2009: \n• GOVLINK CONFERENCE 2009 provides networking opportunities between government agencies\, prime contractors\, and small businesses. \n• The speakers from government agencies will discuss business opportunities\, vendor selection criteria\, and provide valuable insights on what it takes to be successful and how to avoid \ncommon mistakes. \n• Federal\, state\, and local government agencies and major prime contractors will be exhibiting at the event to facilitate networking.  \n
LOCATION:Radisson Hotel Sacramento\, Sacramento\, CA 95815 Early registration is $125 per person. $150 after September 10\, 2009. (Includes kick-off reception hors d’oeuvres\, continental breakfast\, lunch\, afternoon refreshments\, and conference materials.)
UID:e.2957.877
SEQUENCE:3
DTSTAMP:20260424T003137Z
URL:https://www.westsacramentochamber.com/events/details/govlink-conference-2009-877
END:VEVENT

END:VCALENDAR
