BEGIN:VCALENDAR
VERSION:2.0
PRODID:-//ChamberMaster//Event Calendar 2.0//EN
METHOD:PUBLISH
X-PUBLISHED-TTL:P3D
REFRESH-INTERVAL:P3D
CALSCALE:GREGORIAN
BEGIN:VEVENT
DTSTART:20081105T170000Z
DTEND:20081105T200000Z
X-MICROSOFT-CDO-ALLDAYEVENT:FALSE
SUMMARY:Government Subcontracting
DESCRIPTION:Cost: FREE \n\nDescription: Basics for prime contractors who are managing subcontracts\; basics for subcontractors who are working with primes or managing other subcontractors. Discussion includes obtaining consent to subcontract\, project management and controls\, subcontract administration\n\nRegister online at: www.TheFTC.org
X-ALT-DESC;FMTTYPE=text/html:Cost: FREE \n\nDescription: Basics for prime contractors who are managing subcontracts\; basics for subcontractors who are working with primes or managing other subcontractors. Discussion includes obtaining consent to subcontract\, project management and controls\, subcontract administration\n\nRegister online at: www.TheFTC.org
LOCATION:333 Sunrise Avenue\, Room 215\, Roseville\, CA 95661 Sierra College\, Roseville Gateway
UID:e.2957.718
SEQUENCE:3
DTSTAMP:20260426T034523Z
URL:https://www.westsacramentochamber.com/events/details/government-subcontracting-11-05-2008-718
END:VEVENT

END:VCALENDAR
