BEGIN:VCALENDAR
VERSION:2.0
PRODID:-//ChamberMaster//Event Calendar 2.0//EN
METHOD:PUBLISH
X-PUBLISHED-TTL:P3D
REFRESH-INTERVAL:P3D
CALSCALE:GREGORIAN
BEGIN:VEVENT
DTSTART:20110913T160000Z
DTEND:20110913T190000Z
X-MICROSOFT-CDO-ALLDAYEVENT:FALSE
SUMMARY:Government Subcontracting
DESCRIPTION:Cost: FREE \nDescription: Basics for prime contractors who are managing subcontracts\; basics for subcontractors who are working with primes or managing other subcontractors. Discussion includes obtaining consent to subcontract\, project management and controls\, subcontract administration\, marketing to prime contractors\, common errors\, and payment issues from the perspective of both primes and subs.\nRegister at www.TheFTC.org or call 866.382.7822
X-ALT-DESC;FMTTYPE=text/html:Cost: FREE \nDescription: Basics for prime contractors who are managing subcontracts\; basics for subcontractors who are working with primes or managing other subcontractors. Discussion includes obtaining consent to subcontract\, project management and controls\, subcontract administration\, marketing to prime contractors\, common errors\, and payment issues from the perspective of both primes and subs.\nRegister at www.TheFTC.org or call 866.382.7822
LOCATION:925 Del Paso Blvd\, Sacramento\, CA 95815 Del Paso Business Information Center
UID:e.2957.1097
SEQUENCE:3
DTSTAMP:20260423T085742Z
URL:https://www.westsacramentochamber.com/events/details/government-subcontracting-09-13-2011-1097
END:VEVENT

END:VCALENDAR
