BEGIN:VCALENDAR
VERSION:2.0
PRODID:-//ChamberMaster//Event Calendar 2.0//EN
METHOD:PUBLISH
X-PUBLISHED-TTL:P3D
REFRESH-INTERVAL:P3D
CALSCALE:GREGORIAN
BEGIN:VEVENT
DTSTART:20090811T160000Z
DTEND:20090811T190000Z
X-MICROSOFT-CDO-ALLDAYEVENT:FALSE
SUMMARY:Government Subcontracting
DESCRIPTION:Cost: FREE \nDescription: Basics for prime contractors who are managing subcontracts\; basics for subcontractors who are working with primes or managing other subcontractors. Discussion includes obtaining consent to subcontract\, project management and controls\, subcontract administration\, marketing to prime contractors\, common errors\, and payment issues from the perspective of both primes and subs.
X-ALT-DESC;FMTTYPE=text/html:Cost: FREE \nDescription: Basics for prime contractors who are managing subcontracts\; basics for subcontractors who are working with primes or managing other subcontractors. Discussion includes obtaining consent to subcontract\, project management and controls\, subcontract administration\, marketing to prime contractors\, common errors\, and payment issues from the perspective of both primes and subs.
LOCATION:Hillsdale BIC\, Sacramento\, CA 95842 Hillsdale Businesss Information Center
UID:e.2957.880
SEQUENCE:3
DTSTAMP:20260425T160448Z
URL:https://www.westsacramentochamber.com/events/details/government-subcontracting-08-11-2009-880
END:VEVENT

END:VCALENDAR
