BEGIN:VCALENDAR
VERSION:2.0
PRODID:-//ChamberMaster//Event Calendar 2.0//EN
METHOD:PUBLISH
X-PUBLISHED-TTL:P3D
REFRESH-INTERVAL:P3D
CALSCALE:GREGORIAN
BEGIN:VEVENT
DTSTART:20110618T150000Z
DTEND:20110618T220000Z
X-MICROSOFT-CDO-ALLDAYEVENT:FALSE
SUMMARY:Golf Fore Habitat
DESCRIPTION:Come play 18 holes at the beautiful Wild Wings Golf Course in Woodland\, while supporting the hard work of Habitat for Humanity of Yolo County in providing new homes for deserving families. $90/person or in honor of Father's Day\, Parent and Child can play for $150. Shotgun Start! Scramble Format! Raffle and Prizes! Breakfast and Lunch are included. Register online at www.habitatyolo.org or call Mark Restrepo at (916) 425-7994.
X-ALT-DESC;FMTTYPE=text/html:Come play 18 holes at the beautiful Wild Wings Golf Course in Woodland\, while supporting the hard work of Habitat for Humanity of Yolo County in providing new homes for deserving families. $90/person or in honor of Father's Day\, Parent and Child can play for $150. Shotgun Start! Scramble Format! Raffle and Prizes! Breakfast and Lunch are included. Register online at www.habitatyolo.org or call Mark Restrepo at (916) 425-7994. 
LOCATION:18540 Wild Wings Drive\, Woodland\, CA 95695 Wild Wings Golf Course Woodland CA
UID:e.2957.1071
SEQUENCE:3
DTSTAMP:20260422T164731Z
URL:https://www.westsacramentochamber.com/events/details/golf-fore-habitat-1071
END:VEVENT

END:VCALENDAR
