BEGIN:VCALENDAR
VERSION:2.0
PRODID:-//ChamberMaster//Event Calendar 2.0//EN
METHOD:PUBLISH
X-PUBLISHED-TTL:P3D
REFRESH-INTERVAL:P3D
CALSCALE:GREGORIAN
BEGIN:VEVENT
DTSTART:20091007T010000Z
DTEND:20091007T023000Z
X-MICROSOFT-CDO-ALLDAYEVENT:FALSE
SUMMARY:Going Green - Good for Business! Workshop
DESCRIPTION:Going Green - Good for Business! Workshop\n\nWhether you work for a large corporation or a budding entrepreneurial business of one\, you will walk away with tangible benefit and immediate action items from this workshop!\n\nBring others from your workplace. There is something in this workshop from EVERYONE!\n\nExpert guest presenters on:\nCo-Working\, What is That and How Do I Do It?\nWhat's In It For Me to Have a Green Operation?\nWhat are the Benefits of LEED-Certification?\nHow Do I Leverage My Green Credentials to Secure Capital?\nAny More Creative Ways to Save $\, While Saving Resources?\n\nPresented by:\neGreenItems\, an eGreenPlanet\, Inc. Company\n\nHosted by:\nSacramento Municipal Utility District - SMUD\n\nSponsored by:\nSacramento Rainbow Chamber of Commerce - Rainbow PLUS Committee\n\nIn Partnership with:\nSacramento Asian Pacific Chamber of Commerce\nMetro EDGE\, a Program of the Sacramento Metropolitan Chamber of Commerce\n\nRegister Now\nhttp://egreenitems-efbevent.eventbrite.com\nTickets via Eventbrite
X-ALT-DESC;FMTTYPE=text/html:Going Green - Good for Business! Workshop\n\nWhether you work for a large corporation or a budding entrepreneurial business of one\, you will walk away with tangible benefit and immediate action items from this workshop!\n\nBring others from your workplace. There is something in this workshop from EVERYONE!\n\nExpert guest presenters on:\nCo-Working\, What is That and How Do I Do It?\nWhat's In It For Me to Have a Green Operation?\nWhat are the Benefits of LEED-Certification?\nHow Do I Leverage My Green Credentials to Secure Capital?\nAny More Creative Ways to Save $\, While Saving Resources?\n\nPresented by:\neGreenItems\, an eGreenPlanet\, Inc. Company\n\nHosted by:\nSacramento Municipal Utility District - SMUD\n\nSponsored by:\nSacramento Rainbow Chamber of Commerce - Rainbow PLUS Committee\n\nIn Partnership with:\nSacramento Asian Pacific Chamber of Commerce\nMetro EDGE\, a Program of the Sacramento Metropolitan Chamber of Commerce\n\nRegister Now\nhttp://egreenitems-efbevent.eventbrite.com\nTickets via Eventbrite
LOCATION:SMUD Headquarters\, Sacramento\, CA 95817 SMUD Headquarters 6201 S Street Sacramento\, CA 95817 Tuesday\, October 6\, 2009 6:00pm - 7:30pm
UID:e.2957.901
SEQUENCE:3
DTSTAMP:20260423T225959Z
URL:https://www.westsacramentochamber.com/events/details/going-green-good-for-business-workshop-901
END:VEVENT

END:VCALENDAR
