BEGIN:VCALENDAR
VERSION:2.0
PRODID:-//ChamberMaster//Event Calendar 2.0//EN
METHOD:PUBLISH
X-PUBLISHED-TTL:P3D
REFRESH-INTERVAL:P3D
CALSCALE:GREGORIAN
BEGIN:VEVENT
DTSTART;VALUE=DATE:20110930
DTEND;VALUE=DATE:20111001
TRANSP:TRANSPARENT
X-MICROSOFT-CDO-ALLDAYEVENT:TRUE
SUMMARY:Gimme Shelter Donation
DESCRIPTION:TOGETHER\, we can shade the market! The Chamber of Commerce is working hard to make sure that the West Sacramento Farmers Market is a COOL place to shop next season.  Mark your calendars for September 30th when we will be holding our "Gimme Shelter" evening event\, more information to follow.
X-ALT-DESC;FMTTYPE=text/html:TOGETHER\, we can shade the market! The Chamber of Commerce is working hard to make sure that the West Sacramento Farmers Market is a COOL place to shop next season.  Mark your calendars for September 30th when we will be holding our "Gimme Shelter" evening event\, more information to follow.
LOCATION:
UID:e.2957.1089
SEQUENCE:3
DTSTAMP:20260423T103726Z
URL:https://www.westsacramentochamber.com/events/details/gimme-shelter-donation-1089
END:VEVENT

END:VCALENDAR
