BEGIN:VCALENDAR
VERSION:2.0
PRODID:-//ChamberMaster//Event Calendar 2.0//EN
METHOD:PUBLISH
X-PUBLISHED-TTL:P3D
REFRESH-INTERVAL:P3D
CALSCALE:GREGORIAN
BEGIN:VEVENT
DTSTART:20110526T160000Z
DTEND:20110526T190000Z
X-MICROSOFT-CDO-ALLDAYEVENT:FALSE
SUMMARY:Getting Started with Government Contracting / AT&T Wireless Computer Lab
DESCRIPTION:Cost: FREE \n\nDescription: \nIn this beginning level class you will learn:\n• Why and how to obtain a DUNS Number\n• How to research your NAICS and SIC Codes\n• Why registering in Central Contractor Registration (CCR) is \n   so important\n• What ''ORCA'' is\n• Reporting requirements for small businesses\n• How to apply for federal certifications through the Small   Business Administration (SBA):\n      - 8(a) Business Development Program\n      - Historically Underutilized Business Zone (HUBZone) Program\n• How to apply for State of California certifications: \n      - Small Business\n      - Disabled Veterans Business Enterprise (DVBE)\n      - California Department of Transportation (Caltrans)\n         isadvantaged Business Enterprise (DBE) Program\n• How to search for government contracting opportunitiesRegister at www.TheFTC.org or call toll free 866.382.7822
X-ALT-DESC;FMTTYPE=text/html:Cost: FREE \n\nDescription: \nIn this beginning level class you will learn:\n• Why and how to obtain a DUNS Number\n• How to research your NAICS and SIC Codes\n• Why registering in Central Contractor Registration (CCR) is \n   so important\n• What ''ORCA'' is\n• Reporting requirements for small businesses\n• How to apply for federal certifications through the Small   Business Administration (SBA):\n      - 8(a) Business Development Program\n      - Historically Underutilized Business Zone (HUBZone) Program\n• How to apply for State of California certifications: \n      - Small Business\n      - Disabled Veterans Business Enterprise (DVBE)\n      - California Department of Transportation (Caltrans)\n         isadvantaged Business Enterprise (DBE) Program\n• How to search for government contracting opportunitiesRegister at www.TheFTC.org or call toll free 866.382.7822\n\n
LOCATION:4600 Roseville Road\, Ste 100\, North Highlands\, CA 95660 The Federal Technology Center
UID:e.2957.1074
SEQUENCE:3
DTSTAMP:20260423T120920Z
URL:https://www.westsacramentochamber.com/events/details/getting-started-with-government-contracting-at-t-wireless-computer-lab-1074
END:VEVENT

END:VCALENDAR
