BEGIN:VCALENDAR
VERSION:2.0
PRODID:-//ChamberMaster//Event Calendar 2.0//EN
METHOD:PUBLISH
X-PUBLISHED-TTL:P3D
REFRESH-INTERVAL:P3D
CALSCALE:GREGORIAN
BEGIN:VEVENT
DTSTART:20081125T170000Z
DTEND:20081125T200000Z
X-MICROSOFT-CDO-ALLDAYEVENT:FALSE
SUMMARY:Getting Started with Government Contracting
DESCRIPTION:Cost: FREE \n\nDescription: This workshop will cover the certification qualifications\, benefits and application websites for several Federal and state certifications. \n\nRegister online at: www.TheFTC.org
X-ALT-DESC;FMTTYPE=text/html:Cost: FREE \n\nDescription: This workshop will cover the certification qualifications\, benefits and application websites for several Federal and state certifications. \n\nRegister online at: www.TheFTC.org
LOCATION:7011 Sylvan Road\, Citrus Heights\, CA 95630 Citrus Heights Career Center
UID:e.2957.723
SEQUENCE:3
DTSTAMP:20260426T035016Z
URL:https://www.westsacramentochamber.com/events/details/getting-started-with-government-contracting-11-25-2008-723
END:VEVENT

END:VCALENDAR
