BEGIN:VCALENDAR
VERSION:2.0
PRODID:-//ChamberMaster//Event Calendar 2.0//EN
METHOD:PUBLISH
X-PUBLISHED-TTL:P3D
REFRESH-INTERVAL:P3D
CALSCALE:GREGORIAN
BEGIN:VEVENT
DTSTART:20081106T170000Z
DTEND:20081106T200000Z
X-MICROSOFT-CDO-ALLDAYEVENT:FALSE
SUMMARY:Getting Started with Government Contracting
DESCRIPTION:Cost: FREE \n\nDescription: This workshop will cover the certification qualifications\, benefits and application websites for several Federal and state certifications.\n\nClass limited to first six registrants.\n\nRegister online at: www.TheFTC.org
X-ALT-DESC;FMTTYPE=text/html:Cost: FREE \n\nDescription: This workshop will cover the certification qualifications\, benefits and application websites for several Federal and state certifications.\n\nClass limited to first six registrants.\n\nRegister online at: www.TheFTC.org
LOCATION:4600 Roseville Road\, Suite 100\, North Highlands\, CA 95660 The Federal Technology Center/AT&T Wireless Computer Lab
UID:e.2957.719
SEQUENCE:3
DTSTAMP:20260426T034503Z
URL:https://www.westsacramentochamber.com/events/details/getting-started-with-government-contracting-11-06-2008-719
END:VEVENT

END:VCALENDAR
