BEGIN:VCALENDAR
VERSION:2.0
PRODID:-//ChamberMaster//Event Calendar 2.0//EN
METHOD:PUBLISH
X-PUBLISHED-TTL:P3D
REFRESH-INTERVAL:P3D
CALSCALE:GREGORIAN
BEGIN:VEVENT
DTSTART:20110503T160000Z
DTEND:20110503T190000Z
X-MICROSOFT-CDO-ALLDAYEVENT:FALSE
SUMMARY:Getting Started with Government Contracting
DESCRIPTION:Cost: FREE \nDescription:\nThe certification qualifications\, benefits and application websites for the following federal and state certifications.\n\nSmall Business Administration (SBA) Programs:\n• Historically Underutilized Business Zone (HUBZone) Program\n• 8(a) Business Development Program\n\nState of California Certifications: \n• Small Business Certification\n• Disabled Veteran Business Enterprise (DVBE) Certification \n• California Transportation (Caltrans) \n• Disadvantaged Business Enterprise (DBE) Program \nRegister at www.TheFTC.org or call toll-free 866.382.7822
X-ALT-DESC;FMTTYPE=text/html:Cost: FREE \nDescription:\nThe certification qualifications\, benefits and application websites for the following federal and state certifications.\n\nSmall Business Administration (SBA) Programs:\n• Historically Underutilized Business Zone (HUBZone) Program\n• 8(a) Business Development Program\n\nState of California Certifications: \n• Small Business Certification\n• Disabled Veteran Business Enterprise (DVBE) Certification \n• California Transportation (Caltrans) \n• Disadvantaged Business Enterprise (DBE) Program \nRegister at www.TheFTC.org or call toll-free 866.382.7822
LOCATION:The Federal Technology Center/ AT&T Wireless Computer Lab\, North Highlands\, CA 95660 The Federal Technology Center/AT&T Wireless Computer Lab 4600 Roseville Road\, Ste 100 North Highlands\, CA 95660
UID:e.2957.1068
SEQUENCE:3
DTSTAMP:20260423T120919Z
URL:https://www.westsacramentochamber.com/events/details/getting-started-with-government-contracting-05-03-2011-1068
END:VEVENT

END:VCALENDAR
