BEGIN:VCALENDAR
VERSION:2.0
PRODID:-//ChamberMaster//Event Calendar 2.0//EN
METHOD:PUBLISH
X-PUBLISHED-TTL:P3D
REFRESH-INTERVAL:P3D
CALSCALE:GREGORIAN
BEGIN:VEVENT
DTSTART:20111214T170000Z
DTEND:20111214T200000Z
X-MICROSOFT-CDO-ALLDAYEVENT:FALSE
SUMMARY:General Services Administration (GSA) Schedule
DESCRIPTION:Cost: FREE\nDescription: \nThis class will cover:\n• What is GSA and how is it organized\n• What products and services are available on GSA Schedules\n• Doing market research to decide if a GSA Schedule is right \n  for you\n• Completing the solicitation documents\n• Contractor responsibilities\n• Marketing your GSA Schedule \n Register at www.TheFTC.org or call 866.382.7822 toll-free in California
X-ALT-DESC;FMTTYPE=text/html:Cost: FREE\nDescription: \nThis class will cover:\n• What is GSA and how is it organized\n• What products and services are available on GSA Schedules\n• Doing market research to decide if a GSA Schedule is right \n  for you\n• Completing the solicitation documents\n• Contractor responsibilities\n• Marketing your GSA Schedule \n Register at www.TheFTC.org or call 866.382.7822 toll-free in California
LOCATION:5655 Hillsdale Blvd\, Ste 8\, Sacramento\, CA 95842 Hillsdale Business Information Center
UID:e.2957.1108
SEQUENCE:3
DTSTAMP:20260424T082337Z
URL:https://www.westsacramentochamber.com/events/details/general-services-administration-gsa-schedule-1108
END:VEVENT

END:VCALENDAR
