BEGIN:VCALENDAR
VERSION:2.0
PRODID:-//ChamberMaster//Event Calendar 2.0//EN
METHOD:PUBLISH
X-PUBLISHED-TTL:P3D
REFRESH-INTERVAL:P3D
CALSCALE:GREGORIAN
BEGIN:VEVENT
DTSTART:20100514T170000Z
DTEND:20100514T170000Z
X-MICROSOFT-CDO-ALLDAYEVENT:FALSE
SUMMARY:Gem Faire
DESCRIPTION:Gem Faire\, established in 1989\, has become a world renowned marketplace for the finest in gemstones\, beads\, jewelry\, minerals\, fossils\, meteorites\, lapidary equipment\, metaphysical items and much more at the lowest prices in today's market. Over the years\, Gem Faire has produced over 40 shows a year\, making it the largest gem   Sat 10am-6pm\; Sun 10am-5pm\n\nTickets: \nGeneral admission $5\nChildren under 12 Free \n--Get a Special 2 for 1 Internet coupon by visiting the discount URL-- http://www.gemfaire.com/coupon/index.html
X-ALT-DESC;FMTTYPE=text/html:Gem Faire\, established in 1989\, has become a world renowned marketplace for the finest in gemstones\, beads\, jewelry\, minerals\, fossils\, meteorites\, lapidary equipment\, metaphysical items and much more at the lowest prices in today's market. Over the years\, Gem Faire has produced over 40 shows a year\, making it the largest gem & jewelry show circuit on the west coast. Gem Faire has brought together some of the world's finest jewelry designers\, importers\, manufacturers\, beading instructors\, gemstone miners & cutters\, along with certified graduate gemologists. At Gem Faire\, our professional dealers can also help you assemble\, design\, and utilize the piece you have carefully chosen and purchased. Or better yet\, sign up for a workshop or class and learn how to make your own jewelry!\n\nTimes:\nFri Noon-7pm\; Sat 10am-6pm\; Sun 10am-5pm\n\nTickets: \nGeneral admission $5\nChildren under 12 Free \n--Get a Special 2 for 1 Internet coupon by visiting the discount URL-- http://www.gemfaire.com/coupon/index.html\n
LOCATION:Cal Expo\, Sacramento\, CA 95815 Cal Expo 1600 Exposition Blvd. Sacramento \, CA 95815 Driving Directions From the Bay Area Take Highway 80 (East) to Capitol City Freeway (Business 80) (North). Exit Exposition Blvd. From Stockton Take Highway 5 (North) to Highway 50 (East) or Highway 99 (North). Travel Capitol City Freeway (Business 80) (North). Exit Exposition Blvd. From Tahoe Area Northshore\, take Highway 80 (West) to Capitol City Freeway (Business 80) (South). Exit Exposition Blvd. Southshore\, take Highway 50 (West) to Capitol City Freeway (Business 80) (South). Exit Exposition Blvd. From Placerville Take Highway 50 (West) to Howe Ave. (North). Turn left on Hurley Way . Turn right at Ethan Way \, then left on Exposition Blvd. From Redding Take Highway 80 (South) to Highway 50 (East). Travel Capitol City Freeway (Business 80) (North). Exit Exposition Blvd.
UID:e.2957.986
SEQUENCE:3
DTSTAMP:20260422T133634Z
URL:https://www.westsacramentochamber.com/events/details/gem-faire-986
END:VEVENT

END:VCALENDAR
