BEGIN:VCALENDAR
VERSION:2.0
PRODID:-//ChamberMaster//Event Calendar 2.0//EN
METHOD:PUBLISH
X-PUBLISHED-TTL:P3D
REFRESH-INTERVAL:P3D
CALSCALE:GREGORIAN
BEGIN:VEVENT
DTSTART:20091017T150000Z
DTEND:20091018T000000Z
X-MICROSOFT-CDO-ALLDAYEVENT:FALSE
SUMMARY:Freelance Camp
DESCRIPTION:Freelance Camp Comes to Sacramento\n\nFreelance Camps—whose motto is ''In Business for Yourself\, Not by Yourself''—offer a venue for freelancers and self-employed people to discuss and explore different approaches to running a successful freelance business or service company. \n\nFreelance Camps are a revolutionary form of user-generated events—also known as ''unconferences''—whose content is fully provided by the participants. Anyone with something to contribute or with the desire to learn is welcome and invited to join. Each camp is run by a local team of volunteers and is put on for the benefit of the community (not profit).\n\nFreelance Camps are highly productive\, yet informal gatherings where businesspeople can share their expertise with each other. They are a radical break from routine business conferences. Rather than sit back and be talked to\, participants select topics they're interested in and then break into discussion groups. To date\, dozens of Freelance Camps have been held on three continents\, with more cropping up almost daily.\n\nWho should attend? Anyone who provides business services (or is considering it) is a perfect fit: designers\, accountants\, bloggers\,  journalists\, realtors\, lawyers\, carpenters\, engineers\, financial advisers\, marketers\, salespeople\, musicians\, artists\, inventors and more. All types of business owners are encouraged to come to provide a balanced perspective. Participants can:\n* Get experience-based answers to questions\n* Network and meet people running successful freelance businesses\n* Form partnerships and collaborate\n* Find clients\n* Help others and be a person of influence\n\nEnrollment in the Sacramento Freelance Camp includes a full day of informative seminars\, networking and connection opportunities\, breakfast\, lunch and an after party for participants.\n\nHosted by The Urban Hive co-working center in midtown Sacramento\, this is the event that local freelancers\, self-employed people and small business owners will n
X-ALT-DESC;FMTTYPE=text/html:Freelance Camp Comes to Sacramento\n\nFreelance Camps—whose motto is ''In Business for Yourself\, Not by Yourself''—offer a venue for freelancers and self-employed people to discuss and explore different approaches to running a successful freelance business or service company. \n\nFreelance Camps are a revolutionary form of user-generated events—also known as ''unconferences''—whose content is fully provided by the participants. Anyone with something to contribute or with the desire to learn is welcome and invited to join. Each camp is run by a local team of volunteers and is put on for the benefit of the community (not profit).\n\nFreelance Camps are highly productive\, yet informal gatherings where businesspeople can share their expertise with each other. They are a radical break from routine business conferences. Rather than sit back and be talked to\, participants select topics they're interested in and then break into discussion groups. To date\, dozens of Freelance Camps have been held on three continents\, with more cropping up almost daily.\n\nWho should attend? Anyone who provides business services (or is considering it) is a perfect fit: designers\, accountants\, bloggers\,  journalists\, realtors\, lawyers\, carpenters\, engineers\, financial advisers\, marketers\, salespeople\, musicians\, artists\, inventors and more. All types of business owners are encouraged to come to provide a balanced perspective. Participants can:\n* Get experience-based answers to questions\n* Network and meet people running successful freelance businesses\n* Form partnerships and collaborate\n* Find clients\n* Help others and be a person of influence\n\nEnrollment in the Sacramento Freelance Camp includes a full day of informative seminars\, networking and connection opportunities\, breakfast\, lunch and an after party for participants.\n\nHosted by The Urban Hive co-working center in midtown Sacramento\, this is the event that local freelancers\, self-employed people and small business owners will n
LOCATION:1931 H Street\, Sacramento\, CA 95811 The Urban Hive 1931 H Street Sacramento\, CA 95811
UID:e.2957.892
SEQUENCE:3
DTSTAMP:20260423T225918Z
URL:https://www.westsacramentochamber.com/events/details/freelance-camp-892
END:VEVENT

END:VCALENDAR
