BEGIN:VCALENDAR
VERSION:2.0
PRODID:-//ChamberMaster//Event Calendar 2.0//EN
METHOD:PUBLISH
X-PUBLISHED-TTL:P3D
REFRESH-INTERVAL:P3D
CALSCALE:GREGORIAN
BEGIN:VEVENT
DTSTART:20250516T190000Z
DTEND:20250516T200000Z
X-MICROSOFT-CDO-ALLDAYEVENT:FALSE
SUMMARY:FREE WEBINAR: Understanding Medicare
DESCRIPTION:As we approach retirement\, there are many crucial steps and topics to consider before moving onto the next phase of life. Medicare is one of the most important. In this presentation\, led by Chris Frederick of Good Shepherd Insurance\, we will discuss the ABCs of what it takes to enroll\, qualify for\, and identify different types of Medicare coverage.  \n\nTopics Covered\n\n\n  Financial Awareness\n\n  Debt management\n\n  Building better habits
X-ALT-DESC;FMTTYPE=text/html:<p><span style="color:rgb(74\, 74\, 74)\; font-family:noto sans\,sans-serif">As we approach retirement\, there are many crucial steps and topics to consider before moving onto the next phase of life. Medicare is one of the most important. In this presentation\, led by Chris Frederick of Good Shepherd Insurance\, we will discuss the ABCs of what it takes to enroll\, qualify for\, and identify different types of Medicare coverage.&nbsp\;&nbsp\;</span></p>\n\n<p>Topics Covered</p>\n\n<div>\n<p>&bull\; Financial Awareness</p>\n\n<p>&bull\; Debt management</p>\n\n<p>&bull\; Building better habits</p>\n</div>\n
LOCATION:Zoom: https://safecu.zoom.us/webinar/register/3317413892606/WN_Wl8jaTM1Tz-se76HJIHIow#/registration
UID:e.2957.5091
SEQUENCE:3
DTSTAMP:20260423T163742Z
URL:https://www.westsacramentochamber.com/events/details/free-webinar-understanding-medicare-5091
END:VEVENT

END:VCALENDAR
