BEGIN:VCALENDAR
VERSION:2.0
PRODID:-//ChamberMaster//Event Calendar 2.0//EN
METHOD:PUBLISH
X-PUBLISHED-TTL:P3D
REFRESH-INTERVAL:P3D
CALSCALE:GREGORIAN
BEGIN:VEVENT
DTSTART:20250508T180000Z
DTEND:20250508T190000Z
X-MICROSOFT-CDO-ALLDAYEVENT:FALSE
SUMMARY:FREE WEBINAR: Managing your Budget and Credit Score
DESCRIPTION:Does the notion of budgeting leave you with more questions than answers? Curious about how your credit score works? Interested in learning about how the two go hand in hand? Join the SAFE Financial Wellness team to learn more about budgeting\, the mechanics behind credit\, and learn some techniques to make both of these concepts work in your favor.\n\nTopics Covered\n\n\n  Basic elements of a budget and tips that can help you stay on track with your financial goals. \n\n  How to understand your credit report and elements that contribute towards your credit score calculation.\n\n  Learn how your budget plays a key role in your credit report and score
X-ALT-DESC;FMTTYPE=text/html:<p><span style="color:rgb(74\, 74\, 74)\; font-family:noto sans\,sans-serif">Does the notion of budgeting leave you with more questions than answers? Curious about how your credit score works? Interested in learning about how the two go hand in hand? Join the SAFE Financial Wellness team to learn more about budgeting\, the mechanics behind credit\, and learn some techniques to make both of these concepts work in your favor.</span></p>\n\n<p>Topics Covered</p>\n\n<div>\n<p>&bull\; Basic elements of a budget and tips that can help you stay on track with your financial goals.&nbsp\;</p>\n\n<p>&bull\; How to understand your credit report and elements that contribute towards your credit score calculation.</p>\n\n<p>&bull\; Learn how your budget plays a key role in your credit report and score</p>\n</div>\n\n<p>&nbsp\;</p>\n
LOCATION:Zoom: https://safecu.zoom.us/webinar/register/3917413886307/WN_TgW3QcUGS9CuU9zrlobhnA#/registration
UID:e.2957.5087
SEQUENCE:3
DTSTAMP:20260423T163905Z
URL:https://www.westsacramentochamber.com/events/details/free-webinar-managing-your-budget-and-credit-score-5087
END:VEVENT

END:VCALENDAR
