BEGIN:VCALENDAR
VERSION:2.0
PRODID:-//ChamberMaster//Event Calendar 2.0//EN
METHOD:PUBLISH
X-PUBLISHED-TTL:P3D
REFRESH-INTERVAL:P3D
CALSCALE:GREGORIAN
BEGIN:VEVENT
DTSTART:20140301T170000Z
DTEND:20140301T220000Z
X-MICROSOFT-CDO-ALLDAYEVENT:FALSE
SUMMARY:Free Shred Day
DESCRIPTION:Safe Credit Union and DatatSafe is hosting a Free shred day.\n\n\nHelp make a difference by donating food and/or clothing!\nFood and clothing will be donated to Sacramento Food Bank & Family Services.DataSafe's Secure Destruction service ensures that confidential and sensitive documents are destroyed before the recycling process. Once destroyed\, material is compacted and mixed with other\ndata\, making it virtually unidentifiable.
X-ALT-DESC;FMTTYPE=text/html:Safe Credit Union and DatatSafe is hosting a Free shred day.\n\n\nHelp make a difference by donating food and/or clothing!\nFood and clothing will be donated to Sacramento Food Bank & Family Services.DataSafe's Secure Destruction service ensures that confidential and sensitive documents are destroyed before the recycling process. Once destroyed\, material is compacted and mixed with other\ndata\, making it virtually unidentifiable.
LOCATION:2105 Town Center Plaza\, West Sacramento\, CA 95691 2105 Town Center Plaza Suite F-100 West Sacramento\, Ca 95691
UID:e.2957.1289
SEQUENCE:3
DTSTAMP:20260423T103722Z
URL:https://www.westsacramentochamber.com/events/details/free-shred-day-1289
END:VEVENT

END:VCALENDAR
