BEGIN:VCALENDAR
VERSION:2.0
PRODID:-//ChamberMaster//Event Calendar 2.0//EN
METHOD:PUBLISH
X-PUBLISHED-TTL:P3D
REFRESH-INTERVAL:P3D
CALSCALE:GREGORIAN
BEGIN:VEVENT
DTSTART:20110624T010000Z
DTEND:20110624T023000Z
X-MICROSOFT-CDO-ALLDAYEVENT:FALSE
SUMMARY:Free First-Time Home Buyer Workshop
DESCRIPTION:If you're looking to purchase a home in the near future\, you won't want to miss this informative workshop!
X-ALT-DESC;FMTTYPE=text/html:If you're looking to purchase a home in the near future\, you won't want to miss this informative workshop!
LOCATION:2171 Cowell Boulevard\, Davis\, CA 95618 2171 Cowell Boulevard Davis\, CA 95618
UID:e.2957.1080
SEQUENCE:3
DTSTAMP:20260422T164837Z
URL:https://www.westsacramentochamber.com/events/details/free-first-time-home-buyer-workshop-1080
END:VEVENT

END:VCALENDAR
