BEGIN:VCALENDAR
VERSION:2.0
PRODID:-//ChamberMaster//Event Calendar 2.0//EN
METHOD:PUBLISH
X-PUBLISHED-TTL:P3D
REFRESH-INTERVAL:P3D
CALSCALE:GREGORIAN
BEGIN:VEVENT
DTSTART:20260515T010000Z
DTEND:20260515T023000Z
X-MICROSOFT-CDO-ALLDAYEVENT:FALSE
SUMMARY:FREE Estate Planning Presentation
DESCRIPTION:Hello May!\n\n \n\nJoin us with Attorney Lauren Jones\, to learn about the common misconceptions of Estate Planning and how to protect your investments\, assets\, and legacy while gaining peace of mind with a customized Estate Plan. So whether you are just starting or you have an estate plan that needs updating\, join us for our event.\n\n \n\nWe are excited to have you join us for the experience of seeing the presentation in person! For those who can't make it in person\, you are welcome to still join the presentation online.\n\n \n\nClick the link to learn more about our upcoming event and to sign up.\n\nSeats are limited for the in person portion of the event.\n\n*Meeting Link and event information will be emailed to you the day before event.*
X-ALT-DESC;FMTTYPE=text/html:<div><span style="font-size:12px">Hello May!</span><br />\n&nbsp\;</div>\n\n<div><span style="font-size:12px">Join us with Attorney Lauren Jones\, to learn about the common misconceptions of Estate Planning and how to protect your investments\, assets\, and legacy while gaining peace of mind with a customized Estate Plan. So whether you are just starting or you have an estate plan that needs updating\, join us for our event.</span><br />\n&nbsp\;</div>\n\n<div><span style="font-size:12px">We are excited to have you join us for the experience of seeing the presentation in person! For those who can&#39\;t make it in person\, you are welcome to still join the presentation online.</span><br />\n&nbsp\;</div>\n\n<div><span style="font-size:12px">Click the link to learn more about our upcoming event and to sign up.</span></div>\n\n<div><span style="font-size:12px">Seats are limited for the in person portion of the event.</span></div>\n\n<div><span style="font-size:12px">*Meeting Link and event information will be emailed to you the day before event.*&nbsp\;</span></div>\n
LOCATION:IN PERSON - 2945 Ramco Street\, #110\, West Sacramento\, CA 95691 ONLINE - Zoom
UID:e.2957.5214
SEQUENCE:3
DTSTAMP:20260423T003624Z
URL:https://www.westsacramentochamber.com/events/details/free-estate-planning-presentation-05-14-2026-5214
END:VEVENT

END:VCALENDAR
