BEGIN:VCALENDAR
VERSION:2.0
PRODID:-//ChamberMaster//Event Calendar 2.0//EN
METHOD:PUBLISH
X-PUBLISHED-TTL:P3D
REFRESH-INTERVAL:P3D
CALSCALE:GREGORIAN
BEGIN:VEVENT
DTSTART:20260121T020000Z
DTEND:20260121T033000Z
X-MICROSOFT-CDO-ALLDAYEVENT:FALSE
SUMMARY:FREE Business Presentation
DESCRIPTION:Happy New Year! Join us with Attorney Lauren Jones\, where we will be discussing Small Businesses and different Business Formations\, including the legal advantages and disadvantages of each. Whether you are starting or you have a business\, we look forward seeing you at our event!\n\n \n\nWe are excited to have you join us for the experience of seeing the presentation in person! For those who can't make it in person\, you are welcome to still join the presentation online.\n\n \n\nClick the link to learn more about our upcoming event and to sign up.\n\n\n\nSeats are limited for the in person portion of the event.\n\n*Meeting Link and event information will be emailed to you the day before event.*
X-ALT-DESC;FMTTYPE=text/html:<div>Happy New Year! Join us with Attorney Lauren Jones\, where we will be discussing Small Businesses and different Business Formations\, including the legal advantages and disadvantages of each. Whether you are starting or you have a business\, we look forward seeing you at our event!<br />\n&nbsp\;</div>\n\n<div>We are excited to have you join us for the experience of seeing the presentation in person! For those who can&#39\;t make it in person\, you are welcome to still join the presentation online.<br />\n&nbsp\;</div>\n\n<div>Click the link to learn more about our upcoming event and to sign up.<br />\n<br />\nSeats are limited for the in person portion of the event.</div>\n\n<div>*Meeting Link and event information will be emailed to you the day before event.*</div>\n
LOCATION:IN PERSON - 2945 Ramco Street\, Suite 110\, West Sacramento\, CA 95691 ONLINE - Zoom
UID:e.2957.5178
SEQUENCE:3
DTSTAMP:20260425T023021Z
URL:https://www.westsacramentochamber.com/events/details/free-business-presentation-01-20-2026-5178
END:VEVENT

END:VCALENDAR
