BEGIN:VCALENDAR
VERSION:2.0
PRODID:-//ChamberMaster//Event Calendar 2.0//EN
METHOD:PUBLISH
X-PUBLISHED-TTL:P3D
REFRESH-INTERVAL:P3D
CALSCALE:GREGORIAN
BEGIN:VEVENT
DTSTART:20090328T180000Z
DTEND:20090328T180000Z
X-MICROSOFT-CDO-ALLDAYEVENT:FALSE
SUMMARY:Fraud Prevention Seminar For Seniors
DESCRIPTION:Free seminar for Seniors covering Fraud Prevention and Fraud Targeted at Seniors.  All Seniors and their Families welcomed.  Refreshments served.  RSVP by March 25th.
X-ALT-DESC;FMTTYPE=text/html:Free seminar for Seniors covering Fraud Prevention and Fraud Targeted at Seniors.  All Seniors and their Families welcomed.  Refreshments served.  RSVP by March 25th.
LOCATION:415 P Street\, Sacramento\, CA 95814
UID:e.2957.843
SEQUENCE:3
DTSTAMP:20260425T204428Z
URL:https://www.westsacramentochamber.com/events/details/fraud-prevention-seminar-for-seniors-843
END:VEVENT

END:VCALENDAR
