BEGIN:VCALENDAR
VERSION:2.0
PRODID:-//ChamberMaster//Event Calendar 2.0//EN
METHOD:PUBLISH
X-PUBLISHED-TTL:P3D
REFRESH-INTERVAL:P3D
CALSCALE:GREGORIAN
BEGIN:VEVENT
DTSTART:20111008T160000Z
DTEND:20111008T220000Z
X-MICROSOFT-CDO-ALLDAYEVENT:FALSE
SUMMARY:Financial Planning Day of Greater Sacramento
DESCRIPTION:Greater Sacramento Financial Planning Day is organized by City of West Sacramento in partnership with the Financial Planning Association of Northern California and is part of Financial Planning Days – a first-of-its-kind national initiative to provide free financial education and programming to people across the country.  Financial Planning Days was created by four national non-profit organizations – Certified Financial Planner Board of Standards\, Financial Planning Association\, Foundation for Financial Planning\, and the U.S. Conference of Mayors.  \n\nAt the event\, experts from the Financial Planning Association and highly qualified CERTIFIED FINANCIAL PLANNER™ professionals will be stationed at tables and will meet with you one-on-one to offer free personalized advice on a variety of financial topics\, including – getting out of debt\, retirement planning\, investment strategies\, tax issues\, insurance\, and estate planning\, among many others.     \n\nThere are no strings attached! All financial planners are participating as volunteers and they will not be selling products or services\, or giving out business cards.  Come as you are\, or come prepared with any financial paperwork related to your questions.  And\, you can consult with as many different financial planners as you need.    \n\nWalk-ins are welcome\, but admission will be granted first to those who have registered online at www.finanicalPlanningDays.org/GrteaterSacramento\, or by calling toll free at 877-861-7826.  We expect a large crowd\, so we encourage you to register early.
X-ALT-DESC;FMTTYPE=text/html:Greater Sacramento Financial Planning Day is organized by City of West Sacramento in partnership with the Financial Planning Association of Northern California and is part of Financial Planning Days – a first-of-its-kind national initiative to provide free financial education and programming to people across the country.  Financial Planning Days was created by four national non-profit organizations – Certified Financial Planner Board of Standards\, Financial Planning Association\, Foundation for Financial Planning\, and the U.S. Conference of Mayors.  \n\nAt the event\, experts from the Financial Planning Association and highly qualified CERTIFIED FINANCIAL PLANNER™ professionals will be stationed at tables and will meet with you one-on-one to offer free personalized advice on a variety of financial topics\, including – getting out of debt\, retirement planning\, investment strategies\, tax issues\, insurance\, and estate planning\, among many others.     \n\nThere are no strings attached! All financial planners are participating as volunteers and they will not be selling products or services\, or giving out business cards.  Come as you are\, or come prepared with any financial paperwork related to your questions.  And\, you can consult with as many different financial planners as you need.    \n\nWalk-ins are welcome\, but admission will be granted first to those who have registered online at www.finanicalPlanningDays.org/GrteaterSacramento\, or by calling toll free at 877-861-7826.  We expect a large crowd\, so we encourage you to register early. \n
LOCATION:1110 W Capitol Ave\, West Sacramento\, CA 95691 West Sacramneto City Hall
UID:e.2957.1092
SEQUENCE:3
DTSTAMP:20260424T112535Z
URL:https://www.westsacramentochamber.com/events/details/financial-planning-day-of-greater-sacramento-1092
END:VEVENT

END:VCALENDAR
