BEGIN:VCALENDAR
VERSION:2.0
PRODID:-//ChamberMaster//Event Calendar 2.0//EN
METHOD:PUBLISH
X-PUBLISHED-TTL:P3D
REFRESH-INTERVAL:P3D
CALSCALE:GREGORIAN
BEGIN:VEVENT
DTSTART:20080910T160000Z
DTEND:20080910T203000Z
X-MICROSOFT-CDO-ALLDAYEVENT:FALSE
SUMMARY:Federal/State Basic Payroll Tax Seminar
DESCRIPTION:• California payroll reporting requirements: forms\, employer obligations\, reporting\, and payment requirements\n• Independent contractor reporting requirements\n• Electronic filing and payment requirements and options\n• Federal payroll reporting requirements: Forms 940\, 941\, 1099\, W-2\, W-4\, W-9\, and alternative filing\n\nPresented by EDD & IRS\n\nTo register call:\n(866) 873-6083\, or go to www.edd.ca.gov/taxsem
X-ALT-DESC;FMTTYPE=text/html:• California payroll reporting requirements: forms\, employer obligations\, reporting\, and payment requirements\n• Independent contractor reporting requirements\n• Electronic filing and payment requirements and options\n• Federal payroll reporting requirements: Forms 940\, 941\, 1099\, W-2\, W-4\, W-9\, and alternative filing\n\nPresented by EDD & IRS\n\nTo register call:\n(866) 873-6083\, or go to www.edd.ca.gov/taxsem\n\n\n
LOCATION:925 Del Paso Blvd #100\, Sacramento\, CA 95815 925 Del Paso Blvd #100
UID:e.2957.691
SEQUENCE:3
DTSTAMP:20260426T042120Z
URL:https://www.westsacramentochamber.com/events/details/federal-state-basic-payroll-tax-seminar-691
END:VEVENT

END:VCALENDAR
