BEGIN:VCALENDAR
VERSION:2.0
PRODID:-//ChamberMaster//Event Calendar 2.0//EN
METHOD:PUBLISH
X-PUBLISHED-TTL:P3D
REFRESH-INTERVAL:P3D
CALSCALE:GREGORIAN
BEGIN:VEVENT
DTSTART:20110922T160000Z
DTEND:20110922T190000Z
X-MICROSOFT-CDO-ALLDAYEVENT:FALSE
SUMMARY:Federal Contract Negotiation
DESCRIPTION:Cost: FREE\nDescription: \nNegotiation defined\, arriving at a "fair and reasonable price\," price and cost analysis\, the steps of negotiation\, and FAR (Federal Acquisition Regulation)\nclauses that apply\nRegister at www.TheFTC.org or call 866.382.7822
X-ALT-DESC;FMTTYPE=text/html:Cost: FREE\nDescription: \nNegotiation defined\, arriving at a "fair and reasonable price\," price and cost analysis\, the steps of negotiation\, and FAR (Federal Acquisition Regulation)\nclauses that apply\nRegister at www.TheFTC.org or call 866.382.7822
LOCATION:1414 Merkley Ave\, West Sacramento\, CA 95691 West Sacramento Chamber of Commerce
UID:e.2957.1098
SEQUENCE:3
DTSTAMP:20260423T085411Z
URL:https://www.westsacramentochamber.com/events/details/federal-contract-negotiation-1098
END:VEVENT

END:VCALENDAR
