BEGIN:VCALENDAR
VERSION:2.0
PRODID:-//ChamberMaster//Event Calendar 2.0//EN
METHOD:PUBLISH
X-PUBLISHED-TTL:P3D
REFRESH-INTERVAL:P3D
CALSCALE:GREGORIAN
BEGIN:VEVENT
DTSTART:20111213T170000Z
DTEND:20111213T200000Z
X-MICROSOFT-CDO-ALLDAYEVENT:FALSE
SUMMARY:Federal Contract Administration
DESCRIPTION:Cost: FREE\n Description: Explains contract elements\, types of contracts\, uniform contract format\, roles & authority of government representatives\, post-award conferences\, managing delivery schedules\, quality\, inspection and acceptance\, packaging and transportation\, contract changes\, contract modifications\, payment issues\, contract completion and close-out\, contract disputes\, and recommended websites.\nRegister at www.TheFTC.org or call 866.382.7822 toll-free in California
X-ALT-DESC;FMTTYPE=text/html:Cost: FREE\n Description: Explains contract elements\, types of contracts\, uniform contract format\, roles & authority of government representatives\, post-award conferences\, managing delivery schedules\, quality\, inspection and acceptance\, packaging and transportation\, contract changes\, contract modifications\, payment issues\, contract completion and close-out\, contract disputes\, and recommended websites.\nRegister at www.TheFTC.org or call 866.382.7822 toll-free in California
LOCATION:1410 Ethan Way\, Sacramento\, CA 95825 Greater Sacramento Small Business Development Center (SBDC)
UID:e.2957.1109
SEQUENCE:3
DTSTAMP:20260422T085342Z
URL:https://www.westsacramentochamber.com/events/details/federal-contract-administration-12-13-2011-1109
END:VEVENT

END:VCALENDAR
