BEGIN:VCALENDAR
VERSION:2.0
PRODID:-//ChamberMaster//Event Calendar 2.0//EN
METHOD:PUBLISH
X-PUBLISHED-TTL:P3D
REFRESH-INTERVAL:P3D
CALSCALE:GREGORIAN
BEGIN:VEVENT
DTSTART:20100717T030000Z
DTEND:20100717T030000Z
X-MICROSOFT-CDO-ALLDAYEVENT:FALSE
SUMMARY:Enlighten Up
DESCRIPTION:Vanda Mikoloski\nFeatured in April's Science of Mind magazine\, this renowned stand-up comic whose passion is personal growth and development.\nDrew Heriot\, director of The Secret says\, "Superstar funny woman and sweetheart of the metaphysical\, Vanda delivers a rambunctious repertoire that reminds us of one important spiritual principle: not to take ourselves too seriously."\n$20 Advance/$25 at the door
X-ALT-DESC;FMTTYPE=text/html:Vanda Mikoloski\nFeatured in April's Science of Mind magazine\, this renowned stand-up comic whose passion is personal growth and development.\nDrew Heriot\, director of The Secret says\, "Superstar funny woman and sweetheart of the metaphysical\, Vanda delivers a rambunctious repertoire that reminds us of one important spiritual principle: not to take ourselves too seriously."\n$20 Advance/$25 at the door
LOCATION:1275 Starboard Drive \, West Sacramento\, CA 95691 Center for Spiritual Awareness 1275 Starboard Drive West Sacramento\, CA 95691
UID:e.2957.994
SEQUENCE:3
DTSTAMP:20260422T150732Z
URL:https://www.westsacramentochamber.com/events/details/enlighten-up-994
END:VEVENT

END:VCALENDAR
