BEGIN:VCALENDAR
VERSION:2.0
PRODID:-//ChamberMaster//Event Calendar 2.0//EN
METHOD:PUBLISH
X-PUBLISHED-TTL:P3D
REFRESH-INTERVAL:P3D
CALSCALE:GREGORIAN
BEGIN:VEVENT
DTSTART:20090731T170000Z
DTEND:20090805T180000Z
X-MICROSOFT-CDO-ALLDAYEVENT:FALSE
SUMMARY:Electric Vehicle Charging Station
DESCRIPTION:DMC Green\, Inc. announced today that they have opened the first electric vehicle charging station in West Sacramento\, CA.  The West Sacramento station – Harbor Point '76 - also offers E-85 ethanol and biodiesel under the DMC brand as part of DMC's ongoing program to green-retrofit existing gas stations throughout California.
X-ALT-DESC;FMTTYPE=text/html:DMC Green\, Inc. announced today that they have opened the first electric vehicle charging station in West Sacramento\, CA.  The West Sacramento station – Harbor Point '76 - also offers E-85 ethanol and biodiesel under the DMC brand as part of DMC's ongoing program to green-retrofit existing gas stations throughout California.
LOCATION:705 Harbor Pointe Place\, West Sacramento\, CA 95605 705 Habor Pointe Place West Sacramento\, CA
UID:e.2957.886
SEQUENCE:3
DTSTAMP:20260425T151955Z
URL:https://www.westsacramentochamber.com/events/details/electric-vehicle-charging-station-886
END:VEVENT

END:VCALENDAR
