BEGIN:VCALENDAR
VERSION:2.0
PRODID:-//ChamberMaster//Event Calendar 2.0//EN
METHOD:PUBLISH
X-PUBLISHED-TTL:P3D
REFRESH-INTERVAL:P3D
CALSCALE:GREGORIAN
BEGIN:VEVENT
DTSTART:20260121T163000Z
DTEND:20260121T180000Z
X-MICROSOFT-CDO-ALLDAYEVENT:FALSE
SUMMARY:Economic & Government Affairs Forum
DESCRIPTION:Topic\n\nUtility Rate Study\n\n\n\nSpeakers\n\nRoberta Raper\, Director of Finance\n\nRebecca Scott\, Director of Public Works\, Maintanance and Operations\n\nJaipal Chahal\, Director of Capital Projects\n\n.\n\n.\n\n.\n\nThe intention of this monthly forum is to discuss local issues and happenings in and around West Sacramento Representative(s) from the Cty of West Sacramento and other local authorities will be on hand to brief Chamber members on upcoming City Council decisions\, city developments\, and projects that may affect you and your business. \n\n\n\nAll members are encouraged to attend and take advantage of this opportunity. If you are not a member of the Chamber and would like to attend\, please complete he membership application form today. We look forward to meeting you there.
X-ALT-DESC;FMTTYPE=text/html:<strong>Topic</strong><br />\nUtility Rate Study<br />\n<br />\n<strong>Speakers</strong><br />\nRoberta Raper\, Director of Finance<br />\nRebecca Scott\, Director of Public Works\, Maintanance and Operations<br />\nJaipal Chahal\, Director of Capital Projects<br />\n.<br />\n.<br />\n.<br />\nThe intention of this monthly forum is to discuss local issues and happenings in and around West Sacramento Representative(s) from the Cty of West Sacramento and other local authorities will be on hand to brief Chamber members on upcoming City Council decisions\, city developments\, and projects that may affect you and your business.&nbsp\;<br />\n<br />\nAll members are encouraged to attend and take advantage of this opportunity. If you are not a member of the Chamber and would like to attend\, please complete he membership application form today. We look forward to meeting you there.&nbsp\;
LOCATION:Zoom
UID:e.2957.5180
SEQUENCE:3
DTSTAMP:20260424T022239Z
URL:https://www.westsacramentochamber.com/events/details/economic-government-affairs-forum-5180
END:VEVENT

END:VCALENDAR
