BEGIN:VCALENDAR
VERSION:2.0
PRODID:-//ChamberMaster//Event Calendar 2.0//EN
METHOD:PUBLISH
X-PUBLISHED-TTL:P3D
REFRESH-INTERVAL:P3D
CALSCALE:GREGORIAN
BEGIN:VEVENT
DTSTART:20221213T163000Z
DTEND:20221213T180000Z
X-MICROSOFT-CDO-ALLDAYEVENT:FALSE
SUMMARY:Economic & Government Affairs Forum
DESCRIPTION:TOPIC \n\nBuilding Code Update\n\nSPEAKER\n\nRoxanna Recinos-Serna\, CBO\, CASp\n\nChief Building Official\n\nCity of West Sacramento \n\n\n\nTOPIC\n\nHomelessness Update\n\nSPEAKER\n\nMark Sawyer\n\nHomeless Outreach & Services Coordinator \n\nWest Sacramento Police Department\n\n\n\n\n\nThe intention of this monthly forum is to discuss local issues and happenings in and around West Sacramento. Representative(s) from the City of West Sacramento and other local authorities will be on hand to brief Chamber members on upcoming City Council decisions\, city development\, and projects that may affect you and your business. \n\n\n\nAll members are encouraged to attend and take advantage of this opportunity. If you are not a member of the Chamber and would like to attend\, please complete the membership application form today. We look forward to meeting you there.
X-ALT-DESC;FMTTYPE=text/html:<span style="color:#000000\;"><strong>TOPIC&nbsp\;</strong><br />\nBuilding Code Update<br />\n<strong>SPEAKER</strong><br />\nRoxanna Recinos-Serna\, CBO\, CASp<br />\nChief Building Official<br />\nCity of West Sacramento&nbsp\;<br />\n<br />\n<strong>TOPIC</strong><br />\nHomelessness Update<br />\n<strong>SPEAKER</strong><br />\nMark Sawyer<br />\nHomeless Outreach &amp\; Services Coordinator&nbsp\;<br />\nWest Sacramento Police Department</span><br />\n<br />\n<br />\n<span style="font-family: sans-serif\, Arial\, Verdana\, &quot\;Trebuchet MS&quot\;\; font-size: 13px\; background-color: rgb(255\, 255\, 255)\;">The intention of this monthly forum is to discuss local issues and happenings in and around West Sacramento. Representative(s) from the City of West Sacramento and other local authorities will be on hand to brief Chamber members on upcoming City Council decisions\, city development\, and projects that may affect you and your business.&nbsp\;</span><br style="font-family: sans-serif\, Arial\, Verdana\, &quot\;Trebuchet MS&quot\;\; font-size: 13px\; background-color: rgb(255\, 255\, 255)\; color: rgb(51\, 51\, 51)\;" />\n<br style="font-family: sans-serif\, Arial\, Verdana\, &quot\;Trebuchet MS&quot\;\; font-size: 13px\; background-color: rgb(255\, 255\, 255)\; color: rgb(51\, 51\, 51)\;" />\n<span style="font-family: sans-serif\, Arial\, Verdana\, &quot\;Trebuchet MS&quot\;\; font-size: 13px\; background-color: rgb(255\, 255\, 255)\;">All members are encouraged to attend and take advantage of this opportunity. If you are not a member of the Chamber and would like to attend\, please complete the membership application form today. We look forward to meeting you there.&nbsp\;</span>
LOCATION:Zoom
UID:e.2957.4023
SEQUENCE:3
DTSTAMP:20260425T131708Z
URL:https://www.westsacramentochamber.com/events/details/economic-government-affairs-forum-4023
END:VEVENT

END:VCALENDAR
