BEGIN:VCALENDAR
VERSION:2.0
PRODID:-//ChamberMaster//Event Calendar 2.0//EN
METHOD:PUBLISH
X-PUBLISHED-TTL:P3D
REFRESH-INTERVAL:P3D
CALSCALE:GREGORIAN
BEGIN:VEVENT
DTSTART:20081209T170000Z
DTEND:20081209T200000Z
X-MICROSOFT-CDO-ALLDAYEVENT:FALSE
SUMMARY:E-Commerce for Government Contracting
DESCRIPTION:Cost: FREE \n\nDescription: Introductory course that discusses the initial steps vendors must take to conduct e-commerce with the government. Provides a hands-on experience about Government websites\, Federal bid opportunities\, E-commerce procedures\,Use of e-commerce secure links \n\nClass limited to first six registrants.\n\nRegister online at: www.TheFTC.org
X-ALT-DESC;FMTTYPE=text/html:Cost: FREE \n\nDescription: Introductory course that discusses the initial steps vendors must take to conduct e-commerce with the government. Provides a hands-on experience about Government websites\, Federal bid opportunities\, E-commerce procedures\,Use of e-commerce secure links \n\nClass limited to first six registrants.\n\nRegister online at: www.TheFTC.org
LOCATION:4600 Roseville Road\, Suite 100\, North Highlands\, CA 95660 The Federal Technology Center/AT&T Wireless Computer Lab
UID:e.2957.725
SEQUENCE:3
DTSTAMP:20260425T221944Z
URL:https://www.westsacramentochamber.com/events/details/e-commerce-for-government-contracting-12-09-2008-725
END:VEVENT

END:VCALENDAR
