BEGIN:VCALENDAR
VERSION:2.0
PRODID:-//ChamberMaster//Event Calendar 2.0//EN
METHOD:PUBLISH
X-PUBLISHED-TTL:P3D
REFRESH-INTERVAL:P3D
CALSCALE:GREGORIAN
BEGIN:VEVENT
DTSTART:20090806T160000Z
DTEND:20090806T190000Z
X-MICROSOFT-CDO-ALLDAYEVENT:FALSE
SUMMARY:E-Commerce for Government Contracting
DESCRIPTION:Cost: FREE \nDescription: Introductory course that discusses the initial steps vendors must take to conduct e-commerce with the government. Provides a hands-on experience to learn about:\n• Government websites Federal bid opportunities\n• E-commerce procedures \n• Use of e-commerce secure links\n\nThis class is limited to the first six registrants.
X-ALT-DESC;FMTTYPE=text/html:Cost: FREE \nDescription: Introductory course that discusses the initial steps vendors must take to conduct e-commerce with the government. Provides a hands-on experience to learn about:\n• Government websites Federal bid opportunities\n• E-commerce procedures \n• Use of e-commerce secure links\n\nThis class is limited to the first six registrants.
LOCATION:The Federal Technology Center/AT&T Wireless Computer Lab\, North Highlands\, CA 95660 The Federal Technology Center/ AT&T Wireless Computer Lab
UID:e.2957.879
SEQUENCE:3
DTSTAMP:20260425T161511Z
URL:https://www.westsacramentochamber.com/events/details/e-commerce-for-government-contracting-08-06-2009-879
END:VEVENT

END:VCALENDAR
