BEGIN:VCALENDAR
VERSION:2.0
PRODID:-//ChamberMaster//Event Calendar 2.0//EN
METHOD:PUBLISH
X-PUBLISHED-TTL:P3D
REFRESH-INTERVAL:P3D
CALSCALE:GREGORIAN
BEGIN:VEVENT
DTSTART:20100117T213000Z
DTEND:20100118T003000Z
X-MICROSOFT-CDO-ALLDAYEVENT:FALSE
SUMMARY:Drum Classes
DESCRIPTION:Come to this amazing drum class taught by Bob Scarlett at The Center for Spiritual Awareness.\nBeginner Class: 1:30pm to 3pm\nNo experience is necessary and drums will be provided.\n$10 pre-registration\, $13 at the door\nIntermediate Class: 3pm to 4:30pm\n$13 pre-registration\, $15 at the door\n$20 for both classes with pre-registration
X-ALT-DESC;FMTTYPE=text/html:Come to this amazing drum class taught by Bob Scarlett at The Center for Spiritual Awareness.\nBeginner Class: 1:30pm to 3pm\nNo experience is necessary and drums will be provided.\n$10 pre-registration\, $13 at the door\nIntermediate Class: 3pm to 4:30pm\n$13 pre-registration\, $15 at the door\n$20 for both classes with pre-registration
LOCATION:1275 Starboard Drive \, West Sacramento\, CA 95691 1275 Starboard Drive West Sacramento\, CA 95691
UID:e.2957.962
SEQUENCE:3
DTSTAMP:20260424T091628Z
URL:https://www.westsacramentochamber.com/events/details/drum-classes-962
END:VEVENT

END:VCALENDAR
