BEGIN:VCALENDAR
VERSION:2.0
PRODID:-//ChamberMaster//Event Calendar 2.0//EN
METHOD:PUBLISH
X-PUBLISHED-TTL:P3D
REFRESH-INTERVAL:P3D
CALSCALE:GREGORIAN
BEGIN:VEVENT
DTSTART:20230623T220000Z
DTEND:20230624T010000Z
X-MICROSOFT-CDO-ALLDAYEVENT:FALSE
SUMMARY:Donations and Dogs (E-waste and Hot Dogs)
DESCRIPTION:SAVE THE DATE!\n\n\n\nJUNE 23rd | 3-6 PM LYON REAL ESTATE - WEST SAC OFFICE 3170 JEFFERSON BLVD\n\n\n\nSUPPORT COMPUTER FOR KIDS BY DONATING YOUR E-WASTE AND GRABBING LUNCH - ON US!\n\n\n\nCASH DONATIONS ALSO ACCEPTED. ALL PROCEEDS WILL GO TO JAMES MARSHALL PRESCHOOL.
X-ALT-DESC;FMTTYPE=text/html:SAVE THE DATE!<br />\n<br />\nJUNE 23rd | 3-6 PM LYON REAL ESTATE - WEST SAC OFFICE 3170 JEFFERSON BLVD<br />\n<br />\nSUPPORT COMPUTER FOR KIDS BY DONATING YOUR E-WASTE AND GRABBING LUNCH - ON US!<br />\n<br />\nCASH DONATIONS ALSO ACCEPTED. ALL PROCEEDS WILL GO TO JAMES MARSHALL PRESCHOOL.
LOCATION:Lyon Real Estate 3170 Jefferson Blvd Suite 160
UID:e.2957.4127
SEQUENCE:3
DTSTAMP:20260423T183858Z
URL:https://www.westsacramentochamber.com/events/details/donations-and-dogs-e-waste-and-hot-dogs-4127
END:VEVENT

END:VCALENDAR
