BEGIN:VCALENDAR
VERSION:2.0
PRODID:-//ChamberMaster//Event Calendar 2.0//EN
METHOD:PUBLISH
X-PUBLISHED-TTL:P3D
REFRESH-INTERVAL:P3D
CALSCALE:GREGORIAN
BEGIN:VEVENT
DTSTART:20081106T170000Z
DTEND:20081106T200000Z
X-MICROSOFT-CDO-ALLDAYEVENT:FALSE
SUMMARY:Doing Business with the County of Sacramento
DESCRIPTION:(Presented by Sacramento County Contract   successfully responding to a Bid\; how to promote your business to the right Sacramento County Department\; information on the County's procurement opportunities program\; Small Business Outreach and Education Program and Preferences.\n\nTo register call: 916-263-3800
X-ALT-DESC;FMTTYPE=text/html:(Presented by Sacramento County Contract & Purchasing Services Division)\nSuccessful Proposal Development\; successfully responding to a Bid\; how to promote your business to the right Sacramento County Department\; information on the County's procurement opportunities program\; Small Business Outreach and Education Program and Preferences.\n\nTo register call: 916-263-3800
LOCATION:925 Del Paso Blvd #100\, Sacramento\, CA 95815 925 Del Paso Blvd #100
UID:e.2957.695
SEQUENCE:3
DTSTAMP:20260426T034534Z
URL:https://www.westsacramentochamber.com/events/details/doing-business-with-the-county-of-sacramento-695
END:VEVENT

END:VCALENDAR
