BEGIN:VCALENDAR
VERSION:2.0
PRODID:-//ChamberMaster//Event Calendar 2.0//EN
METHOD:PUBLISH
X-PUBLISHED-TTL:P3D
REFRESH-INTERVAL:P3D
CALSCALE:GREGORIAN
BEGIN:VEVENT
DTSTART:20081104T170000Z
DTEND:20081104T200000Z
X-MICROSOFT-CDO-ALLDAYEVENT:FALSE
SUMMARY:Doing Business with General Services Administration
DESCRIPTION:Description: Who GSA is and how they are organized\; how to do business with the GSA\, review of contracting regulations\, requirements and specifications\, Federal Acquisition Service (FAS)\, process to obtain a GSA schedule (in detail)\, and applicable websites. \n\nCost: FREE\nRegister online at: www.TheFTC.org
X-ALT-DESC;FMTTYPE=text/html:Description: Who GSA is and how they are organized\; how to do business with the GSA\, review of contracting regulations\, requirements and specifications\, Federal Acquisition Service (FAS)\, process to obtain a GSA schedule (in detail)\, and applicable websites. \n\nCost: FREE\nRegister online at: www.TheFTC.org
LOCATION:1410 Ethan Way\, Sacramento\, CA 95825 Greater Sacramento Small Business Development Center
UID:e.2957.717
SEQUENCE:3
DTSTAMP:20260426T034523Z
URL:https://www.westsacramentochamber.com/events/details/doing-business-with-general-services-administration-11-04-2008-717
END:VEVENT

END:VCALENDAR
