BEGIN:VCALENDAR
VERSION:2.0
PRODID:-//ChamberMaster//Event Calendar 2.0//EN
METHOD:PUBLISH
X-PUBLISHED-TTL:P3D
REFRESH-INTERVAL:P3D
CALSCALE:GREGORIAN
BEGIN:VEVENT
DTSTART:20090818T160000Z
DTEND:20090818T190000Z
X-MICROSOFT-CDO-ALLDAYEVENT:FALSE
SUMMARY:Doing Business with General Services Administration
DESCRIPTION:Cost: FREE \n\nDescription: Who GSA is and how they are organized\; how to do business with the GSA\, review of contracting regulations\, requirements and specifications\, Federal Acquisition Service (FAS)\, process to obtain a GSA schedule (in detail)\, and applicable websites.
X-ALT-DESC;FMTTYPE=text/html:Cost: FREE \n\nDescription: Who GSA is and how they are organized\; how to do business with the GSA\, review of contracting regulations\, requirements and specifications\, Federal Acquisition Service (FAS)\, process to obtain a GSA schedule (in detail)\, and applicable websites.  \n  \n
LOCATION:Citrus Heights Career Center\, Sacramento\, CA 95610 Citrus Heights Career Center
UID:e.2957.883
SEQUENCE:3
DTSTAMP:20260425T160055Z
URL:https://www.westsacramentochamber.com/events/details/doing-business-with-general-services-administration-08-18-2009-883
END:VEVENT

END:VCALENDAR
