BEGIN:VCALENDAR
VERSION:2.0
PRODID:-//ChamberMaster//Event Calendar 2.0//EN
METHOD:PUBLISH
X-PUBLISHED-TTL:P3D
REFRESH-INTERVAL:P3D
CALSCALE:GREGORIAN
BEGIN:VEVENT
DTSTART:20100513T213000Z
DTEND:20100513T213000Z
X-MICROSOFT-CDO-ALLDAYEVENT:FALSE
SUMMARY:''Do I Worry Too Much''
DESCRIPTION:This is a free class offered by the Eskaton Senior Connection. Do you often find yourself anxious about things that turn out to be "no big deal"?  Do you feel like you worry more now than ever before?  During this class Larry Dawes\, MSW\, will discuss the symptoms of anxiety\, the triggers\, and how to help yourself with your fears and worries.\n\nThe Senior Connection offers a variety of free workshops throughout Sacramento. Topics cover a wide range of issues important to older adults\, including health and wellness\, lifestyle\, and caregiving. Eskaton\, a nonprofit corporation\, has been committed to serving communities in Northern California since 1968. Eskaton's primary mission is "to enhance the quality of life of seniors through innovative health\, housing\, and social services.
X-ALT-DESC;FMTTYPE=text/html:This is a free class offered by the Eskaton Senior Connection. Do you often find yourself anxious about things that turn out to be "no big deal"?  Do you feel like you worry more now than ever before?  During this class Larry Dawes\, MSW\, will discuss the symptoms of anxiety\, the triggers\, and how to help yourself with your fears and worries.\n\nThe Senior Connection offers a variety of free workshops throughout Sacramento. Topics cover a wide range of issues important to older adults\, including health and wellness\, lifestyle\, and caregiving. Eskaton\, a nonprofit corporation\, has been committed to serving communities in Northern California since 1968. Eskaton's primary mission is "to enhance the quality of life of seniors through innovative health\, housing\, and social services.
LOCATION:Eskaton Wilson Manor\, West Sacramento\, CA 95691 This class will be held at Eskaton Wilson Manor in West Sacramento. From the greater Sacramento area\, merge onto Capital City Freeway/I-80 Bus West\, Take I-80 exit toward I-5/San Francisco\, Merge onto US 50 W and take the Harbor Blvd Exit. Turn Left at Harbor Blvd\, Take the 1st right on Evergreen Avenue.
UID:e.2957.997
SEQUENCE:3
DTSTAMP:20260422T133708Z
URL:https://www.westsacramentochamber.com/events/details/do-i-worry-too-much-997
END:VEVENT

END:VCALENDAR
