BEGIN:VCALENDAR
VERSION:2.0
PRODID:-//ChamberMaster//Event Calendar 2.0//EN
METHOD:PUBLISH
X-PUBLISHED-TTL:P3D
REFRESH-INTERVAL:P3D
CALSCALE:GREGORIAN
BEGIN:VEVENT
DTSTART:20130802T003000Z
DTEND:20130802T023000Z
X-MICROSOFT-CDO-ALLDAYEVENT:FALSE
SUMMARY:DigIn! Dinner @ WSFM- Featuring Supervisor Mike McGowan and Chef Patrick Mulvaney
DESCRIPTION:THIS EVENT IS CURRENTLY SOLD OUT. PLEASE CALL THE CHAMBER TO CHECK AVAILABILITY. \n\nFeaturing Supervisor Mike McGowan and Chef Patrick Mulvaney\n\n\n\nOur region's favorite chefs team up with local celebrities\, to host a 100-seat dinner in front of City Hall\non the first Thursday of each month.  \n\nA portion of the July dinner proceeds will benefit Future Ready: The Mayor's Trust for Youth.\n\nTreat yourself to a dinner made from ingredients available at the market\, literally steps away from your table.\n\nFirst Thursday of each month at 5:30 PM\n• $50 per ticket\n• 100 seats available.
X-ALT-DESC;FMTTYPE=text/html:THIS EVENT IS CURRENTLY SOLD OUT. PLEASE CALL THE CHAMBER TO CHECK AVAILABILITY. \n\nFeaturing Supervisor Mike McGowan and Chef Patrick Mulvaney\n\n\n\nOur region's favorite chefs team up with local celebrities\, to host a 100-seat dinner in front of City Hall\non the first Thursday of each month.  \n\nA portion of the July dinner proceeds will benefit Future Ready: The Mayor's Trust for Youth.\n\nTreat yourself to a dinner made from ingredients available at the market\, literally steps away from your table.\n\nFirst Thursday of each month at 5:30 PM\n• $50 per ticket\n• 100 seats available.
LOCATION:1110 West Capitol Ave\, West Sacramento\, CA 95691
UID:e.2957.1205
SEQUENCE:3
DTSTAMP:20260423T121118Z
URL:https://www.westsacramentochamber.com/events/details/digin-dinner-wsfm-featuring-supervisor-mike-mcgowan-and-chef-patrick-mulvaney-1205
END:VEVENT

END:VCALENDAR
